Workbook
Name DISPINCOECD: DP_LIVE_28102021222849581[[#All],[TIME]:[Cambio€]]
Name DISPINCOECD: DP_LIVE_28102021222849581[[#All],[TIME]:[Cambio€]]

Sheet Evoluzione prezzi TEX

Sheet Evoluzione prezzi soloIST TEX

Sheet Dati base
A1: Nr. | B1: Titolo | C1: Mese di pubblicazione | D1: Soggetto | E1: Sceneggiatura | F1: Disegni | G1: Anno | H1: MS | I1: data | J1: Prezzo | K1: prezzo € | L1: Indice rival. | M1: P.Rival.ISTAT | N1: P.Rival.ReddDisp.OCSE | O1: P.ind.ConsumiFinali | P1: P.ind.PolpaLegno
A2: 1 | B2: La Mano Rossa | C2: ottobre | D2: Giovanni Luigi Bonelli | E2: Giovanni Luigi Bonelli | F2: Galep | G2: 1958 | H2: =+UPPER(TEXT(I2,"MMM")) -> OTT | I2: =+VALUE(CONCATENATE("01-",C2,"-",G2)) -> 21459 | J2: 200 | K2: =+ROUND(IF(I2<I$496,J2/1936.27,J2),2) -> 0.1 | L2: {=+_xlfn.XLOOKUP(G2,'Variazioni mese finale'!A$7:A$81,_xlfn.XLOOKUP(H2,'Variazioni mese finale'!B$6:M$6,'Variazioni mese finale'!$B$7:$M$81))} -> 27.541 | M2: =+L2*K2 -> 2.7541 | O2: =+K2*VLOOKUP(G2,'Indice consumi'!A$2:G$162,7,FALSE) -> 0.1 | P2: =+K2*VLOOKUP(I2,PaperPulpPrice[#All],3,FALSE)/VLOOKUP(I$2,PaperPulpPrice[#All],3,FALSE) -> 0.1
A3: 2 | B3: Uno contro venti | C3: dicembre | D3: Giovanni Luigi Bonelli | E3: Giovanni Luigi Bonelli | F3: Galep | G3: 1958 | H3: =+UPPER(TEXT(I3,"MMM")) -> DIC | I3: =+VALUE(CONCATENATE("01-",C3,"-",G3)) -> 21520 | J3: 200 | K3: =+ROUND(IF(I3<I$496,J3/1936.27,J3),2) -> 0.1 | L3: {=+_xlfn.XLOOKUP(G3,'Variazioni mese finale'!A$7:A$81,_xlfn.XLOOKUP(H3,'Variazioni mese finale'!B$6:M$6,'Variazioni mese finale'!$B$7:$M$81))} -> 27.778 | M3: =+L3*K3 -> 2.7778 | O3: =+K3*VLOOKUP(G3,'Indice consumi'!A$2:G$162,7,FALSE) -> 0.1 | P3: =+K3*VLOOKUP(I3,PaperPulpPrice[#All],3,FALSE)/VLOOKUP(I$2,PaperPulpPrice[#All],3,FALSE) -> 0.10001425
A4: 3 | B4: Fuorilegge | C4: febbraio | D4: Giovanni Luigi Bonelli | E4: Giovanni Luigi Bonelli | F4: Galep | G4: 1959 | H4: =+UPPER(TEXT(I4,"MMM")) -> FEB | I4: =+VALUE(CONCATENATE("01-",C4,"-",G4)) -> 21582 | J4: 200 | K4: =+ROUND(IF(I4<I$496,J4/1936.27,J4),2) -> 0.1 | L4: {=+_xlfn.XLOOKUP(G4,'Variazioni mese finale'!A$7:A$81,_xlfn.XLOOKUP(H4,'Variazioni mese finale'!B$6:M$6,'Variazioni mese finale'!$B$7:$M$81))} -> 27.749 | M4: =+L4*K4 -> 2.7749 | O4: =+K4*VLOOKUP(G4,'Indice consumi'!A$2:G$162,7,FALSE) -> 0.10377259 | P4: =+K4*VLOOKUP(I4,PaperPulpPrice[#All],3,FALSE)/VLOOKUP(I$2,PaperPulpPrice[#All],3,FALSE) -> 0.10064457
A5: 4 | B5: L'eroe del Messico | C5: aprile | D5: Giovanni Luigi Bonelli | E5: Giovanni Luigi Bonelli | F5: Galep | G5: 1959 | H5: =+UPPER(TEXT(I5,"MMM")) -> APR | I5: =+VALUE(CONCATENATE("01-",C5,"-",G5)) -> 21641 | J5: 200 | K5: =+ROUND(IF(I5<I$496,J5/1936.27,J5),2) -> 0.1 | L5: {=+_xlfn.XLOOKUP(G5,'Variazioni mese finale'!A$7:A$81,_xlfn.XLOOKUP(H5,'Variazioni mese finale'!B$6:M$6,'Variazioni mese finale'!$B$7:$M$81))} -> 27.775 | M5: =+L5*K5 -> 2.7775 | O5: =+K5*VLOOKUP(G5,'Indice consumi'!A$2:G$162,7,FALSE) -> 0.10377259 | P5: =+K5*VLOOKUP(I5,PaperPulpPrice[#All],3,FALSE)/VLOOKUP(I$2,PaperPulpPrice[#All],3,FALSE) -> 0.100665
A6: 5 | B6: Satania! | C6: giugno | D6: Giovanni Luigi Bonelli | E6: Giovanni Luigi Bonelli | F6: Galep | G6: 1959 | H6: =+UPPER(TEXT(I6,"MMM")) -> GIU | I6: =+VALUE(CONCATENATE("01-",C6,"-",G6)) -> 21702 | J6: 200 | K6: =+ROUND(IF(I6<I$496,J6/1936.27,J6),2) -> 0.1 | L6: {=+_xlfn.XLOOKUP(G6,'Variazioni mese finale'!A$7:A$81,_xlfn.XLOOKUP(H6,'Variazioni mese finale'!B$6:M$6,'Variazioni mese finale'!$B$7:$M$81))} -> 27.705 | M6: =+L6*K6 -> 2.7705 | O6: =+K6*VLOOKUP(G6,'Indice consumi'!A$2:G$162,7,FALSE) -> 0.10377259 | P6: =+K6*VLOOKUP(I6,PaperPulpPrice[#All],3,FALSE)/VLOOKUP(I$2,PaperPulpPrice[#All],3,FALSE) -> 0.100665
A7: 6 | B7: Doppio gioco | C7: settembre | D7: Giovanni Luigi Bonelli | E7: Giovanni Luigi Bonelli | F7: Galep | G7: 1959 | H7: =+UPPER(TEXT(I7,"MMM")) -> SET | I7: =+VALUE(CONCATENATE("01-",C7,"-",G7)) -> 21794 | J7: 200 | K7: =+ROUND(IF(I7<I$496,J7/1936.27,J7),2) -> 0.1 | L7: {=+_xlfn.XLOOKUP(G7,'Variazioni mese finale'!A$7:A$81,_xlfn.XLOOKUP(H7,'Variazioni mese finale'!B$6:M$6,'Variazioni mese finale'!$B$7:$M$81))} -> 27.561 | M7: =+L7*K7 -> 2.7561 | O7: =+K7*VLOOKUP(G7,'Indice consumi'!A$2:G$162,7,FALSE) -> 0.10377259 | P7: =+K7*VLOOKUP(I7,PaperPulpPrice[#All],3,FALSE)/VLOOKUP(I$2,PaperPulpPrice[#All],3,FALSE) -> 0.100665
A8: 7 | B8: Il patto di sangue | C8: gennaio | D8: Giovanni Luigi Bonelli | E8: Giovanni Luigi Bonelli | F8: Galep | G8: 1960 | H8: =+UPPER(TEXT(I8,"MMM")) -> GEN | I8: =+VALUE(CONCATENATE("01-",C8,"-",G8)) -> 21916 | J8: 200 | K8: =+ROUND(IF(I8<I$496,J8/1936.27,J8),2) -> 0.1 | L8: {=+_xlfn.XLOOKUP(G8,'Variazioni mese finale'!A$7:A$81,_xlfn.XLOOKUP(H8,'Variazioni mese finale'!B$6:M$6,'Variazioni mese finale'!$B$7:$M$81))} -> 26.908 | M8: =+L8*K8 -> 2.6908 | O8: =+K8*VLOOKUP(G8,'Indice consumi'!A$2:G$162,7,FALSE) -> 0.10876077 | P8: =+K8*VLOOKUP(I8,PaperPulpPrice[#All],3,FALSE)/VLOOKUP(I$2,PaperPulpPrice[#All],3,FALSE) -> 0.10059741
A9: 8 | B9: Due contro cento | C9: marzo | D9: Giovanni Luigi Bonelli | E9: Giovanni Luigi Bonelli | F9: Galep / Guido Zamperoni | G9: 1960 | H9: =+UPPER(TEXT(I9,"MMM")) -> MAR | I9: =+VALUE(CONCATENATE("01-",C9,"-",G9)) -> 21976 | J9: 200 | K9: =+ROUND(IF(I9<I$496,J9/1936.27,J9),2) -> 0.1 | L9: {=+_xlfn.XLOOKUP(G9,'Variazioni mese finale'!A$7:A$81,_xlfn.XLOOKUP(H9,'Variazioni mese finale'!B$6:M$6,'Variazioni mese finale'!$B$7:$M$81))} -> 27.115 | M9: =+L9*K9 -> 2.7115 | O9: =+K9*VLOOKUP(G9,'Indice consumi'!A$2:G$162,7,FALSE) -> 0.10876077 | P9: =+K9*VLOOKUP(I9,PaperPulpPrice[#All],3,FALSE)/VLOOKUP(I$2,PaperPulpPrice[#All],3,FALSE) -> 0.10061847
A10: 9 | B10: L'ultima battaglia | C10: maggio | D10: Giovanni Luigi Bonelli | E10: Giovanni Luigi Bonelli | F10: Galep / Mario Uggeri | G10: 1960 | H10: =+UPPER(TEXT(I10,"MMM")) -> MAG | I10: =+VALUE(CONCATENATE("01-",C10,"-",G10)) -> 22037 | J10: 200 | K10: =+ROUND(IF(I10<I$496,J10/1936.27,J10),2) -> 0.1 | L10: {=+_xlfn.XLOOKUP(G10,'Variazioni mese finale'!A$7:A$81,_xlfn.XLOOKUP(H10,'Variazioni mese finale'!B$6:M$6,'Variazioni mese finale'!$B$7:$M$81))} -> 26.953 | M10: =+L10*K10 -> 2.6953 | O10: =+K10*VLOOKUP(G10,'Indice consumi'!A$2:G$162,7,FALSE) -> 0.10876077 | P10: =+K10*VLOOKUP(I10,PaperPulpPrice[#All],3,FALSE)/VLOOKUP(I$2,PaperPulpPrice[#All],3,FALSE) -> 0.10064667
A11: 10 | B11: Il tranello | C11: luglio | D11: Giovanni Luigi Bonelli | E11: Giovanni Luigi Bonelli | F11: Galep | G11: 1960 | H11: =+UPPER(TEXT(I11,"MMM")) -> LUG | I11: =+VALUE(CONCATENATE("01-",C11,"-",G11)) -> 22098 | J11: 200 | K11: =+ROUND(IF(I11<I$496,J11/1936.27,J11),2) -> 0.1 | L11: {=+_xlfn.XLOOKUP(G11,'Variazioni mese finale'!A$7:A$81,_xlfn.XLOOKUP(H11,'Variazioni mese finale'!B$6:M$6,'Variazioni mese finale'!$B$7:$M$81))} -> 26.776 | M11: =+L11*K11 -> 2.6776 | O11: =+K11*VLOOKUP(G11,'Indice consumi'!A$2:G$162,7,FALSE) -> 0.10876077 | P11: =+K11*VLOOKUP(I11,PaperPulpPrice[#All],3,FALSE)/VLOOKUP(I$2,PaperPulpPrice[#All],3,FALSE) -> 0.10066516
A12: 11 | B12: Il segno indiano | C12: settembre | D12: Giovanni Luigi Bonelli | E12: Giovanni Luigi Bonelli | F12: Galep | G12: 1960 | H12: =+UPPER(TEXT(I12,"MMM")) -> SET | I12: =+VALUE(CONCATENATE("01-",C12,"-",G12)) -> 22160 | J12: 200 | K12: =+ROUND(IF(I12<I$496,J12/1936.27,J12),2) -> 0.1 | L12: {=+_xlfn.XLOOKUP(G12,'Variazioni mese finale'!A$7:A$81,_xlfn.XLOOKUP(H12,'Variazioni mese finale'!B$6:M$6,'Variazioni mese finale'!$B$7:$M$81))} -> 26.842 | M12: =+L12*K12 -> 2.6842 | O12: =+K12*VLOOKUP(G12,'Indice consumi'!A$2:G$162,7,FALSE) -> 0.10876077 | P12: =+K12*VLOOKUP(I12,PaperPulpPrice[#All],3,FALSE)/VLOOKUP(I$2,PaperPulpPrice[#All],3,FALSE) -> 0.10066289
A13: 12 | B13: Il figlio di Tex | C13: novembre | D13: Giovanni Luigi Bonelli | E13: Giovanni Luigi Bonelli | F13: Galep | G13: 1960 | H13: =+UPPER(TEXT(I13,"MMM")) -> NOV | I13: =+VALUE(CONCATENATE("01-",C13,"-",G13)) -> 22221 | J13: 200 | K13: =+ROUND(IF(I13<I$496,J13/1936.27,J13),2) -> 0.1 | L13: {=+_xlfn.XLOOKUP(G13,'Variazioni mese finale'!A$7:A$81,_xlfn.XLOOKUP(H13,'Variazioni mese finale'!B$6:M$6,'Variazioni mese finale'!$B$7:$M$81))} -> 26.71 | M13: =+L13*K13 -> 2.671 | O13: =+K13*VLOOKUP(G13,'Indice consumi'!A$2:G$162,7,FALSE) -> 0.10876077 | P13: =+K13*VLOOKUP(I13,PaperPulpPrice[#All],3,FALSE)/VLOOKUP(I$2,PaperPulpPrice[#All],3,FALSE) -> 0.10064635
... A411: 410 | B411: Orrore! | C411: dicembre | D411: Michele Medda | E411: Michele Medda | F411: Guglielmo Letteri | G411: 1994 | H411: =+UPPER(TEXT(I411,"MMM")) -> DIC | I411: =+VALUE(CONCATENATE("01-",C411,"-",G411)) -> 34669 | J411: 2700 | K411: =+ROUND(IF(I411<I$496,J411/1936.27,J411),2) -> 1.39 | L411: {=+_xlfn.XLOOKUP(G411,'Variazioni mese finale'!A$7:A$81,_xlfn.XLOOKUP(H411,'Variazioni mese finale'!B$6:M$6,'Variazioni mese finale'!$B$7:$M$81))} -> 1.59 | M411: =+L411*K411 -> 2.2101 | O411: =+K411*VLOOKUP(G411,'Indice consumi'!A$2:G$162,7,FALSE) -> 5.626486 | P411: =+K411*VLOOKUP(I411,PaperPulpPrice[#All],3,FALSE)/VLOOKUP(I$2,PaperPulpPrice[#All],3,FALSE) -> 2.6673007
A412: 411 | B412: Il nemico senza volto | C412: gennaio | D412: Michele Medda | E412: Michele Medda | F412: Guglielmo Letteri | G412: 1995 | H412: =+UPPER(TEXT(I412,"MMM")) -> GEN | I412: =+VALUE(CONCATENATE("01-",C412,"-",G412)) -> 34700 | J412: 2700 | K412: =+ROUND(IF(I412<I$496,J412/1936.27,J412),2) -> 1.39 | L412: {=+_xlfn.XLOOKUP(G412,'Variazioni mese finale'!A$7:A$81,_xlfn.XLOOKUP(H412,'Variazioni mese finale'!B$6:M$6,'Variazioni mese finale'!$B$7:$M$81))} -> 1.584 | M412: =+L412*K412 -> 2.20176 | N412: =+M412*IFERROR(VLOOKUP(G412,DISPINCOECD,4,FALSE)/VLOOKUP(G$412,DISPINCOECD,4,FALSE),1) -> 2.20176 | O412: =+K412*VLOOKUP(G412,'Indice consumi'!A$2:G$162,7,FALSE) -> 5.763195 | P412: =+K412*VLOOKUP(I412,PaperPulpPrice[#All],3,FALSE)/VLOOKUP(I$2,PaperPulpPrice[#All],3,FALSE) -> 2.876783 | R412: =+VLOOKUP(G412,DISPINCOECD,4,FALSE) -> 21296.232
A413: 412 | B413: Yukon selvaggio | C413: febbraio | D413: Claudio Nizzi | E413: Claudio Nizzi | F413: Fernando Fusco | G413: 1995 | H413: =+UPPER(TEXT(I413,"MMM")) -> FEB | I413: =+VALUE(CONCATENATE("01-",C413,"-",G413)) -> 34731 | J413: 2700 | K413: =+ROUND(IF(I413<I$496,J413/1936.27,J413),2) -> 1.39 | L413: {=+_xlfn.XLOOKUP(G413,'Variazioni mese finale'!A$7:A$81,_xlfn.XLOOKUP(H413,'Variazioni mese finale'!B$6:M$6,'Variazioni mese finale'!$B$7:$M$81))} -> 1.571 | M413: =+L413*K413 -> 2.18369 | N413: =+M413*IFERROR(VLOOKUP(G413,DISPINCOECD,4,FALSE)/VLOOKUP(G$412,DISPINCOECD,4,FALSE),1) -> 2.18369 | O413: =+K413*VLOOKUP(G413,'Indice consumi'!A$2:G$162,7,FALSE) -> 5.763195 | P413: =+K413*VLOOKUP(I413,PaperPulpPrice[#All],3,FALSE)/VLOOKUP(I$2,PaperPulpPrice[#All],3,FALSE) -> 3.1432857
A414: 413 | B414: La prigioniera del faro | C414: marzo | D414: Claudio Nizzi | E414: Claudio Nizzi | F414: Fernando Fusco | G414: 1995 | H414: =+UPPER(TEXT(I414,"MMM")) -> MAR | I414: =+VALUE(CONCATENATE("01-",C414,"-",G414)) -> 34759 | J414: 2700 | K414: =+ROUND(IF(I414<I$496,J414/1936.27,J414),2) -> 1.39 | L414: {=+_xlfn.XLOOKUP(G414,'Variazioni mese finale'!A$7:A$81,_xlfn.XLOOKUP(H414,'Variazioni mese finale'!B$6:M$6,'Variazioni mese finale'!$B$7:$M$81))} -> 1.559 | M414: =+L414*K414 -> 2.16701 | N414: =+M414*IFERROR(VLOOKUP(G414,DISPINCOECD,4,FALSE)/VLOOKUP(G$412,DISPINCOECD,4,FALSE),1) -> 2.16701 | O414: =+K414*VLOOKUP(G414,'Indice consumi'!A$2:G$162,7,FALSE) -> 5.763195 | P414: =+K414*VLOOKUP(I414,PaperPulpPrice[#All],3,FALSE)/VLOOKUP(I$2,PaperPulpPrice[#All],3,FALSE) -> 3.1923455
A415: 414 | B415: Il risveglio del vulcano | C415: aprile | D415: Claudio Nizzi | E415: Claudio Nizzi | F415: Fernando Fusco / Fabio Civitelli | G415: 1995 | H415: =+UPPER(TEXT(I415,"MMM")) -> APR | I415: =+VALUE(CONCATENATE("01-",C415,"-",G415)) -> 34790 | J415: 2700 | K415: =+ROUND(IF(I415<I$496,J415/1936.27,J415),2) -> 1.39 | L415: {=+_xlfn.XLOOKUP(G415,'Variazioni mese finale'!A$7:A$81,_xlfn.XLOOKUP(H415,'Variazioni mese finale'!B$6:M$6,'Variazioni mese finale'!$B$7:$M$81))} -> 1.55 | M415: =+L415*K415 -> 2.1545 | N415: =+M415*IFERROR(VLOOKUP(G415,DISPINCOECD,4,FALSE)/VLOOKUP(G$412,DISPINCOECD,4,FALSE),1) -> 2.1545 | O415: =+K415*VLOOKUP(G415,'Indice consumi'!A$2:G$162,7,FALSE) -> 5.763195 | P415: =+K415*VLOOKUP(I415,PaperPulpPrice[#All],3,FALSE)/VLOOKUP(I$2,PaperPulpPrice[#All],3,FALSE) -> 3.2488052
A416: 415 | B416: Delitto nel porto | C416: maggio | D416: Claudio Nizzi | E416: Claudio Nizzi | F416: Fabio Civitelli | G416: 1995 | H416: =+UPPER(TEXT(I416,"MMM")) -> MAG | I416: =+VALUE(CONCATENATE("01-",C416,"-",G416)) -> 34820 | J416: 2700 | K416: =+ROUND(IF(I416<I$496,J416/1936.27,J416),2) -> 1.39 | L416: {=+_xlfn.XLOOKUP(G416,'Variazioni mese finale'!A$7:A$81,_xlfn.XLOOKUP(H416,'Variazioni mese finale'!B$6:M$6,'Variazioni mese finale'!$B$7:$M$81))} -> 1.541 | M416: =+L416*K416 -> 2.14199 | N416: =+M416*IFERROR(VLOOKUP(G416,DISPINCOECD,4,FALSE)/VLOOKUP(G$412,DISPINCOECD,4,FALSE),1) -> 2.14199 | O416: =+K416*VLOOKUP(G416,'Indice consumi'!A$2:G$162,7,FALSE) -> 5.763195 | P416: =+K416*VLOOKUP(I416,PaperPulpPrice[#All],3,FALSE)/VLOOKUP(I$2,PaperPulpPrice[#All],3,FALSE) -> 3.5121484
A417: 416 | B417: I contrabbandieri | C417: giugno | D417: Claudio Nizzi / Mauro Boselli | E417: Claudio Nizzi / Mauro Boselli | F417: Fabio Civitelli / Carlo Raffaele Marcello | G417: 1995 | H417: =+UPPER(TEXT(I417,"MMM")) -> GIU | I417: =+VALUE(CONCATENATE("01-",C417,"-",G417)) -> 34851 | J417: 2700 | K417: =+ROUND(IF(I417<I$496,J417/1936.27,J417),2) -> 1.39 | L417: {=+_xlfn.XLOOKUP(G417,'Variazioni mese finale'!A$7:A$81,_xlfn.XLOOKUP(H417,'Variazioni mese finale'!B$6:M$6,'Variazioni mese finale'!$B$7:$M$81))} -> 1.533 | M417: =+L417*K417 -> 2.13087 | N417: =+M417*IFERROR(VLOOKUP(G417,DISPINCOECD,4,FALSE)/VLOOKUP(G$412,DISPINCOECD,4,FALSE),1) -> 2.13087 | O417: =+K417*VLOOKUP(G417,'Indice consumi'!A$2:G$162,7,FALSE) -> 5.763195 | P417: =+K417*VLOOKUP(I417,PaperPulpPrice[#All],3,FALSE)/VLOOKUP(I$2,PaperPulpPrice[#All],3,FALSE) -> 3.7478325
A418: 417 | B418: Cercatori di piste | C418: luglio | D418: Mauro Boselli | E418: Mauro Boselli | F418: Carlo Raffaele Marcello | G418: 1995 | H418: =+UPPER(TEXT(I418,"MMM")) -> LUG | I418: =+VALUE(CONCATENATE("01-",C418,"-",G418)) -> 34881 | J418: 2700 | K418: =+ROUND(IF(I418<I$496,J418/1936.27,J418),2) -> 1.39 | L418: {=+_xlfn.XLOOKUP(G418,'Variazioni mese finale'!A$7:A$81,_xlfn.XLOOKUP(H418,'Variazioni mese finale'!B$6:M$6,'Variazioni mese finale'!$B$7:$M$81))} -> 1.531 | M418: =+L418*K418 -> 2.12809 | N418: =+M418*IFERROR(VLOOKUP(G418,DISPINCOECD,4,FALSE)/VLOOKUP(G$412,DISPINCOECD,4,FALSE),1) -> 2.12809 | O418: =+K418*VLOOKUP(G418,'Indice consumi'!A$2:G$162,7,FALSE) -> 5.763195 | P418: =+K418*VLOOKUP(I418,PaperPulpPrice[#All],3,FALSE)/VLOOKUP(I$2,PaperPulpPrice[#All],3,FALSE) -> 3.907601
A419: 418 | B419: Morte sul fiume | C419: agosto | D419: Mauro Boselli | E419: Mauro Boselli | F419: Carlo Raffaele Marcello | G419: 1995 | H419: =+UPPER(TEXT(I419,"MMM")) -> AGO | I419: =+VALUE(CONCATENATE("01-",C419,"-",G419)) -> 34912 | J419: 2700 | K419: =+ROUND(IF(I419<I$496,J419/1936.27,J419),2) -> 1.39 | L419: {=+_xlfn.XLOOKUP(G419,'Variazioni mese finale'!A$7:A$81,_xlfn.XLOOKUP(H419,'Variazioni mese finale'!B$6:M$6,'Variazioni mese finale'!$B$7:$M$81))} -> 1.526 | M419: =+L419*K419 -> 2.12114 | N419: =+M419*IFERROR(VLOOKUP(G419,DISPINCOECD,4,FALSE)/VLOOKUP(G$412,DISPINCOECD,4,FALSE),1) -> 2.12114 | O419: =+K419*VLOOKUP(G419,'Indice consumi'!A$2:G$162,7,FALSE) -> 5.763195 | P419: =+K419*VLOOKUP(I419,PaperPulpPrice[#All],3,FALSE)/VLOOKUP(I$2,PaperPulpPrice[#All],3,FALSE) -> 4.0019674
A420: 419 | B420: Sul sentiero della vendetta | C420: settembre | D420: Claudio Nizzi | E420: Claudio Nizzi | F420: Vincenzo Monti | G420: 1995 | H420: =+UPPER(TEXT(I420,"MMM")) -> SET | I420: =+VALUE(CONCATENATE("01-",C420,"-",G420)) -> 34943 | J420: 2700 | K420: =+ROUND(IF(I420<I$496,J420/1936.27,J420),2) -> 1.39 | L420: {=+_xlfn.XLOOKUP(G420,'Variazioni mese finale'!A$7:A$81,_xlfn.XLOOKUP(H420,'Variazioni mese finale'!B$6:M$6,'Variazioni mese finale'!$B$7:$M$81))} -> 1.522 | M420: =+L420*K420 -> 2.11558 | N420: =+M420*IFERROR(VLOOKUP(G420,DISPINCOECD,4,FALSE)/VLOOKUP(G$412,DISPINCOECD,4,FALSE),1) -> 2.11558 | O420: =+K420*VLOOKUP(G420,'Indice consumi'!A$2:G$162,7,FALSE) -> 5.763195 | P420: =+K420*VLOOKUP(I420,PaperPulpPrice[#All],3,FALSE)/VLOOKUP(I$2,PaperPulpPrice[#All],3,FALSE) -> 3.9322001
A421: 420 | B421: Mille dollari per morire | C421: ottobre | D421: Claudio Nizzi / Mauro Boselli | E421: Claudio Nizzi / Mauro Boselli | F421: Vincenzo Monti / Guglielmo Letteri | G421: 1995 | H421: =+UPPER(TEXT(I421,"MMM")) -> OTT | I421: =+VALUE(CONCATENATE("01-",C421,"-",G421)) -> 34973 | J421: 2700 | K421: =+ROUND(IF(I421<I$496,J421/1936.27,J421),2) -> 1.39 | L421: {=+_xlfn.XLOOKUP(G421,'Variazioni mese finale'!A$7:A$81,_xlfn.XLOOKUP(H421,'Variazioni mese finale'!B$6:M$6,'Variazioni mese finale'!$B$7:$M$81))} -> 1.514 | M421: =+L421*K421 -> 2.10446 | N421: =+M421*IFERROR(VLOOKUP(G421,DISPINCOECD,4,FALSE)/VLOOKUP(G$412,DISPINCOECD,4,FALSE),1) -> 2.10446 | O421: =+K421*VLOOKUP(G421,'Indice consumi'!A$2:G$162,7,FALSE) -> 5.763195 | P421: =+K421*VLOOKUP(I421,PaperPulpPrice[#All],3,FALSE)/VLOOKUP(I$2,PaperPulpPrice[#All],3,FALSE) -> 3.9653208
A422: 421 | B422: La minaccia nel deserto | C422: novembre | D422: Mauro Boselli | E422: Mauro Boselli | F422: Guglielmo Letteri | G422: 1995 | H422: =+UPPER(TEXT(I422,"MMM")) -> NOV | I422: =+VALUE(CONCATENATE("01-",C422,"-",G422)) -> 35004 | J422: 3000 | K422: =+ROUND(IF(I422<I$496,J422/1936.27,J422),2) -> 1.55 | L422: {=+_xlfn.XLOOKUP(G422,'Variazioni mese finale'!A$7:A$81,_xlfn.XLOOKUP(H422,'Variazioni mese finale'!B$6:M$6,'Variazioni mese finale'!$B$7:$M$81))} -> 1.505 | M422: =+L422*K422 -> 2.33275 | N422: =+M422*IFERROR(VLOOKUP(G422,DISPINCOECD,4,FALSE)/VLOOKUP(G$412,DISPINCOECD,4,FALSE),1) -> 2.33275 | O422: =+K422*VLOOKUP(G422,'Indice consumi'!A$2:G$162,7,FALSE) -> 6.4265843 | P422: =+K422*VLOOKUP(I422,PaperPulpPrice[#All],3,FALSE)/VLOOKUP(I$2,PaperPulpPrice[#All],3,FALSE) -> 4.3810002
A423: 422 | B423: Terrore a Silver Bell | C423: dicembre | D423: Mauro Boselli | E423: Mauro Boselli | F423: Guglielmo Letteri | G423: 1995 | H423: =+UPPER(TEXT(I423,"MMM")) -> DIC | I423: =+VALUE(CONCATENATE("01-",C423,"-",G423)) -> 35034 | J423: 3000 | K423: =+ROUND(IF(I423<I$496,J423/1936.27,J423),2) -> 1.55 | L423: {=+_xlfn.XLOOKUP(G423,'Variazioni mese finale'!A$7:A$81,_xlfn.XLOOKUP(H423,'Variazioni mese finale'!B$6:M$6,'Variazioni mese finale'!$B$7:$M$81))} -> 1.502 | M423: =+L423*K423 -> 2.3281 | N423: =+M423*IFERROR(VLOOKUP(G423,DISPINCOECD,4,FALSE)/VLOOKUP(G$412,DISPINCOECD,4,FALSE),1) -> 2.3281 | O423: =+K423*VLOOKUP(G423,'Indice consumi'!A$2:G$162,7,FALSE) -> 6.4265843 | P423: =+K423*VLOOKUP(I423,PaperPulpPrice[#All],3,FALSE)/VLOOKUP(I$2,PaperPulpPrice[#All],3,FALSE) -> 4.2868348
A424: 423 | B424: L'uomo senza passato | C424: gennaio | D424: Claudio Nizzi | E424: Claudio Nizzi | F424: Claudio Villa | G424: 1996 | H424: =+UPPER(TEXT(I424,"MMM")) -> GEN | I424: =+VALUE(CONCATENATE("01-",C424,"-",G424)) -> 35065 | J424: 3000 | K424: =+ROUND(IF(I424<I$496,J424/1936.27,J424),2) -> 1.55 | L424: {=+_xlfn.XLOOKUP(G424,'Variazioni mese finale'!A$7:A$81,_xlfn.XLOOKUP(H424,'Variazioni mese finale'!B$6:M$6,'Variazioni mese finale'!$B$7:$M$81))} -> 1.501 | M424: =+L424*K424 -> 2.32655 | N424: =+M424*IFERROR(VLOOKUP(G424,DISPINCOECD,4,FALSE)/VLOOKUP(G$412,DISPINCOECD,4,FALSE),1) -> 2.5254045 | O424: =+K424*VLOOKUP(G424,'Indice consumi'!A$2:G$162,7,FALSE) -> 6.4924503 | P424: =+K424*VLOOKUP(I424,PaperPulpPrice[#All],3,FALSE)/VLOOKUP(I$2,PaperPulpPrice[#All],3,FALSE) -> 3.9841837
... A489: 488 | B489: Matador! | C489: giugno | D489: Mauro Boselli | E489: Mauro Boselli | F489: Aldo Capitanio | G489: 2001 | H489: =+UPPER(TEXT(I489,"MMM")) -> GIU | I489: =+VALUE(CONCATENATE("01-",C489,"-",G489)) -> 37043 | J489: 4000 | K489: =+ROUND(IF(I489<I$496,J489/1936.27,J489),2) -> 2.07 | L489: {=+_xlfn.XLOOKUP(G489,'Variazioni mese finale'!A$7:A$81,_xlfn.XLOOKUP(H489,'Variazioni mese finale'!B$6:M$6,'Variazioni mese finale'!$B$7:$M$81))} -> 1.333 | M489: =+L489*K489 -> 2.75931 | N489: =+M489*IFERROR(VLOOKUP(G489,DISPINCOECD,4,FALSE)/VLOOKUP(G$412,DISPINCOECD,4,FALSE),1) -> 2.5581269 | O489: =+K489*VLOOKUP(G489,'Indice consumi'!A$2:G$162,7,FALSE) -> 9.8793758 | P489: =+K489*VLOOKUP(I489,PaperPulpPrice[#All],3,FALSE)/VLOOKUP(I$2,PaperPulpPrice[#All],3,FALSE) -> 2.6219633
A490: 489 | B490: La collera dei Montoya | C490: luglio | D490: Mauro Boselli | E490: Mauro Boselli | F490: Aldo Capitanio | G490: 2001 | H490: =+UPPER(TEXT(I490,"MMM")) -> LUG | I490: =+VALUE(CONCATENATE("01-",C490,"-",G490)) -> 37073 | K490: =+K489 -> 2.07 | L490: {=+_xlfn.XLOOKUP(G490,'Variazioni mese finale'!A$7:A$81,_xlfn.XLOOKUP(H490,'Variazioni mese finale'!B$6:M$6,'Variazioni mese finale'!$B$7:$M$81))} -> 1.333 | M490: =+L490*K490 -> 2.75931 | N490: =+M490*IFERROR(VLOOKUP(G490,DISPINCOECD,4,FALSE)/VLOOKUP(G$412,DISPINCOECD,4,FALSE),1) -> 2.5581269 | O490: =+K490*VLOOKUP(G490,'Indice consumi'!A$2:G$162,7,FALSE) -> 9.8793758 | P490: =+K490*VLOOKUP(I490,PaperPulpPrice[#All],3,FALSE)/VLOOKUP(I$2,PaperPulpPrice[#All],3,FALSE) -> 2.5601595
A491: 490 | B491: Congiura contro Custer | C491: agosto | D491: Claudio Nizzi | E491: Claudio Nizzi | F491: Giovanni Ticci | G491: 2001 | H491: =+UPPER(TEXT(I491,"MMM")) -> AGO | I491: =+VALUE(CONCATENATE("01-",C491,"-",G491)) -> 37104 | K491: =+K490 -> 2.07 | L491: {=+_xlfn.XLOOKUP(G491,'Variazioni mese finale'!A$7:A$81,_xlfn.XLOOKUP(H491,'Variazioni mese finale'!B$6:M$6,'Variazioni mese finale'!$B$7:$M$81))} -> 1.333 | M491: =+L491*K491 -> 2.75931 | N491: =+M491*IFERROR(VLOOKUP(G491,DISPINCOECD,4,FALSE)/VLOOKUP(G$412,DISPINCOECD,4,FALSE),1) -> 2.5581269 | O491: =+K491*VLOOKUP(G491,'Indice consumi'!A$2:G$162,7,FALSE) -> 9.8793758 | P491: =+K491*VLOOKUP(I491,PaperPulpPrice[#All],3,FALSE)/VLOOKUP(I$2,PaperPulpPrice[#All],3,FALSE) -> 2.6142488
A492: 491 | B492: Le grandi praterie | C492: settembre | D492: Claudio Nizzi | E492: Claudio Nizzi | F492: Giovanni Ticci | G492: 2001 | H492: =+UPPER(TEXT(I492,"MMM")) -> SET | I492: =+VALUE(CONCATENATE("01-",C492,"-",G492)) -> 37135 | K492: =+K491 -> 2.07 | L492: {=+_xlfn.XLOOKUP(G492,'Variazioni mese finale'!A$7:A$81,_xlfn.XLOOKUP(H492,'Variazioni mese finale'!B$6:M$6,'Variazioni mese finale'!$B$7:$M$81))} -> 1.332 | M492: =+L492*K492 -> 2.75724 | N492: =+M492*IFERROR(VLOOKUP(G492,DISPINCOECD,4,FALSE)/VLOOKUP(G$412,DISPINCOECD,4,FALSE),1) -> 2.5562078 | O492: =+K492*VLOOKUP(G492,'Indice consumi'!A$2:G$162,7,FALSE) -> 9.8793758 | P492: =+K492*VLOOKUP(I492,PaperPulpPrice[#All],3,FALSE)/VLOOKUP(I$2,PaperPulpPrice[#All],3,FALSE) -> 2.5911681
A493: 492 | B493: Little Bighorn | C493: ottobre | D493: Claudio Nizzi | E493: Claudio Nizzi | F493: Giovanni Ticci | G493: 2001 | H493: =+UPPER(TEXT(I493,"MMM")) -> OTT | I493: =+VALUE(CONCATENATE("01-",C493,"-",G493)) -> 37165 | K493: =+K492 -> 2.07 | L493: {=+_xlfn.XLOOKUP(G493,'Variazioni mese finale'!A$7:A$81,_xlfn.XLOOKUP(H493,'Variazioni mese finale'!B$6:M$6,'Variazioni mese finale'!$B$7:$M$81))} -> 1.328 | M493: =+L493*K493 -> 2.74896 | N493: =+M493*IFERROR(VLOOKUP(G493,DISPINCOECD,4,FALSE)/VLOOKUP(G$412,DISPINCOECD,4,FALSE),1) -> 2.5485315 | O493: =+K493*VLOOKUP(G493,'Indice consumi'!A$2:G$162,7,FALSE) -> 9.8793758 | P493: =+K493*VLOOKUP(I493,PaperPulpPrice[#All],3,FALSE)/VLOOKUP(I$2,PaperPulpPrice[#All],3,FALSE) -> 2.5182491
A494: 493 | B494: La morte nera | C494: novembre | D494: Claudio Nizzi | E494: Claudio Nizzi | F494: Fabio Civitelli | G494: 2001 | H494: =+UPPER(TEXT(I494,"MMM")) -> NOV | I494: =+VALUE(CONCATENATE("01-",C494,"-",G494)) -> 37196 | K494: =+K493 -> 2.07 | L494: {=+_xlfn.XLOOKUP(G494,'Variazioni mese finale'!A$7:A$81,_xlfn.XLOOKUP(H494,'Variazioni mese finale'!B$6:M$6,'Variazioni mese finale'!$B$7:$M$81))} -> 1.326 | M494: =+L494*K494 -> 2.74482 | N494: =+M494*IFERROR(VLOOKUP(G494,DISPINCOECD,4,FALSE)/VLOOKUP(G$412,DISPINCOECD,4,FALSE),1) -> 2.5446934 | O494: =+K494*VLOOKUP(G494,'Indice consumi'!A$2:G$162,7,FALSE) -> 9.8793758 | P494: =+K494*VLOOKUP(I494,PaperPulpPrice[#All],3,FALSE)/VLOOKUP(I$2,PaperPulpPrice[#All],3,FALSE) -> 2.4847691
A495: 494 | B495: La maschera dell'orrore | C495: dicembre | D495: Claudio Nizzi | E495: Claudio Nizzi | F495: José Ortiz | G495: 2001 | H495: =+UPPER(TEXT(I495,"MMM")) -> DIC | I495: =+VALUE(CONCATENATE("01-",C495,"-",G495)) -> 37226 | K495: =+K494 -> 2.07 | L495: {=+_xlfn.XLOOKUP(G495,'Variazioni mese finale'!A$7:A$81,_xlfn.XLOOKUP(H495,'Variazioni mese finale'!B$6:M$6,'Variazioni mese finale'!$B$7:$M$81))} -> 1.325 | M495: =+L495*K495 -> 2.74275 | N495: =+M495*IFERROR(VLOOKUP(G495,DISPINCOECD,4,FALSE)/VLOOKUP(G$412,DISPINCOECD,4,FALSE),1) -> 2.5427743 | O495: =+K495*VLOOKUP(G495,'Indice consumi'!A$2:G$162,7,FALSE) -> 9.8793758 | P495: =+K495*VLOOKUP(I495,PaperPulpPrice[#All],3,FALSE)/VLOOKUP(I$2,PaperPulpPrice[#All],3,FALSE) -> 2.5005325
A496: 495 | B496: Agguato sul lago | C496: gennaio | D496: Claudio Nizzi | E496: Claudio Nizzi | F496: José Ortiz | G496: 2002 | H496: =+UPPER(TEXT(I496,"MMM")) -> GEN | I496: =+VALUE(CONCATENATE("01-",C496,"-",G496)) -> 37257 | K496: =+K495 -> 2.07 | L496: {=+_xlfn.XLOOKUP(G496,'Variazioni mese finale'!A$7:A$81,_xlfn.XLOOKUP(H496,'Variazioni mese finale'!B$6:M$6,'Variazioni mese finale'!$B$7:$M$81))} -> 1.319 | M496: =+L496*K496 -> 2.73033 | N496: =+M496*IFERROR(VLOOKUP(G496,DISPINCOECD,4,FALSE)/VLOOKUP(G$412,DISPINCOECD,4,FALSE),1) -> 2.8137479 | O496: =+K496*VLOOKUP(G496,'Indice consumi'!A$2:G$162,7,FALSE) -> 9.8895783 | P496: =+K496*VLOOKUP(I496,PaperPulpPrice[#All],3,FALSE)/VLOOKUP(I$2,PaperPulpPrice[#All],3,FALSE) -> 2.4924872
A497: 496 | B497: Tamburi nella foresta | C497: febbraio | D497: Claudio Nizzi | E497: Claudio Nizzi | F497: José Ortiz | G497: 2002 | H497: =+UPPER(TEXT(I497,"MMM")) -> FEB | I497: =+VALUE(CONCATENATE("01-",C497,"-",G497)) -> 37288 | K497: =+K496 -> 2.07 | L497: {=+_xlfn.XLOOKUP(G497,'Variazioni mese finale'!A$7:A$81,_xlfn.XLOOKUP(H497,'Variazioni mese finale'!B$6:M$6,'Variazioni mese finale'!$B$7:$M$81))} -> 1.315 | M497: =+L497*K497 -> 2.72205 | N497: =+M497*IFERROR(VLOOKUP(G497,DISPINCOECD,4,FALSE)/VLOOKUP(G$412,DISPINCOECD,4,FALSE),1) -> 2.8052149 | O497: =+K497*VLOOKUP(G497,'Indice consumi'!A$2:G$162,7,FALSE) -> 9.8895783 | P497: =+K497*VLOOKUP(I497,PaperPulpPrice[#All],3,FALSE)/VLOOKUP(I$2,PaperPulpPrice[#All],3,FALSE) -> 2.4400858
A498: 497 | B498: La grande invasione | C498: marzo | D498: Mauro Boselli | E498: Mauro Boselli | F498: Carlo Raffaele Marcello | G498: 2002 | H498: =+UPPER(TEXT(I498,"MMM")) -> MAR | I498: =+VALUE(CONCATENATE("01-",C498,"-",G498)) -> 37316 | K498: =+K497 -> 2.07 | L498: {=+_xlfn.XLOOKUP(G498,'Variazioni mese finale'!A$7:A$81,_xlfn.XLOOKUP(H498,'Variazioni mese finale'!B$6:M$6,'Variazioni mese finale'!$B$7:$M$81))} -> 1.311 | M498: =+L498*K498 -> 2.71377 | N498: =+M498*IFERROR(VLOOKUP(G498,DISPINCOECD,4,FALSE)/VLOOKUP(G$412,DISPINCOECD,4,FALSE),1) -> 2.796682 | O498: =+K498*VLOOKUP(G498,'Indice consumi'!A$2:G$162,7,FALSE) -> 9.8895783 | P498: =+K498*VLOOKUP(I498,PaperPulpPrice[#All],3,FALSE)/VLOOKUP(I$2,PaperPulpPrice[#All],3,FALSE) -> 2.4433038
A499: 498 | B499: Guerra di frontiera | C499: aprile | D499: Mauro Boselli | E499: Mauro Boselli | F499: Carlo Raffaele Marcello | G499: 2002 | H499: =+UPPER(TEXT(I499,"MMM")) -> APR | I499: =+VALUE(CONCATENATE("01-",C499,"-",G499)) -> 37347 | K499: =+K498 -> 2.07 | L499: {=+_xlfn.XLOOKUP(G499,'Variazioni mese finale'!A$7:A$81,_xlfn.XLOOKUP(H499,'Variazioni mese finale'!B$6:M$6,'Variazioni mese finale'!$B$7:$M$81))} -> 1.308 | M499: =+L499*K499 -> 2.70756 | N499: =+M499*IFERROR(VLOOKUP(G499,DISPINCOECD,4,FALSE)/VLOOKUP(G$412,DISPINCOECD,4,FALSE),1) -> 2.7902822 | O499: =+K499*VLOOKUP(G499,'Indice consumi'!A$2:G$162,7,FALSE) -> 9.8895783 | P499: =+K499*VLOOKUP(I499,PaperPulpPrice[#All],3,FALSE)/VLOOKUP(I$2,PaperPulpPrice[#All],3,FALSE) -> 2.4691386
A500: 499 | B500: Gli eroi del Texas | C500: maggio | D500: Mauro Boselli | E500: Mauro Boselli | F500: Carlo Raffaele Marcello | G500: 2002 | H500: =+UPPER(TEXT(I500,"MMM")) -> MAG | I500: =+VALUE(CONCATENATE("01-",C500,"-",G500)) -> 37377 | K500: =+K499 -> 2.07 | L500: {=+_xlfn.XLOOKUP(G500,'Variazioni mese finale'!A$7:A$81,_xlfn.XLOOKUP(H500,'Variazioni mese finale'!B$6:M$6,'Variazioni mese finale'!$B$7:$M$81))} -> 1.306 | M500: =+L500*K500 -> 2.70342 | N500: =+M500*IFERROR(VLOOKUP(G500,DISPINCOECD,4,FALSE)/VLOOKUP(G$412,DISPINCOECD,4,FALSE),1) -> 2.7860158 | O500: =+K500*VLOOKUP(G500,'Indice consumi'!A$2:G$162,7,FALSE) -> 9.8895783 | P500: =+K500*VLOOKUP(I500,PaperPulpPrice[#All],3,FALSE)/VLOOKUP(I$2,PaperPulpPrice[#All],3,FALSE) -> 2.5650233
A501: 500 | B501: Tex 500 - tutto a colori! - Uomini in fuga | C501: giugno | D501: Claudio Nizzi | E501: Claudio Nizzi | F501: Giovanni Ticci | G501: 2002 | H501: =+UPPER(TEXT(I501,"MMM")) -> GIU | I501: =+VALUE(CONCATENATE("01-",C501,"-",G501)) -> 37408 | K501: 2.2 | L501: {=+_xlfn.XLOOKUP(G501,'Variazioni mese finale'!A$7:A$81,_xlfn.XLOOKUP(H501,'Variazioni mese finale'!B$6:M$6,'Variazioni mese finale'!$B$7:$M$81))} -> 1.303 | M501: =+L501*K501 -> 2.8666 | N501: =+M501*IFERROR(VLOOKUP(G501,DISPINCOECD,4,FALSE)/VLOOKUP(G$412,DISPINCOECD,4,FALSE),1) -> 2.9541813 | O501: =+K501*VLOOKUP(G501,'Indice consumi'!A$2:G$162,7,FALSE) -> 10.510663 | P501: =+K501*VLOOKUP(I501,PaperPulpPrice[#All],3,FALSE)/VLOOKUP(I$2,PaperPulpPrice[#All],3,FALSE) -> 2.8854342
...

Sheet WPU0911
A1: DATE | B1: Paper Pulp Price | C1: index€ | D1: CambioL/US$ | E1: CambioUS$/€
A2: 21459 | B2: 27.1 | C2: =+IFERROR(E2,1936.27/D2)*PaperPulpPrice[[#This Row],[Paper Pulp Price]] -> 83.993221 | D2: =+VLOOKUP(PaperPulpPrice[[#This Row],[DATE]],USD_serie_storica_mensileLit[#All],2,FALSE) -> 624.728 | E2: =+VLOOKUP(PaperPulpPrice[[#This Row],[DATE]],USD_serie_storica_mensile[#All],2,FALSE) -> #N/A
A3: 21490 | B3: 27.1 | C3: =+IFERROR(E3,1936.27/D3)*PaperPulpPrice[[#This Row],[Paper Pulp Price]] -> 84.001423 | D3: =+VLOOKUP(PaperPulpPrice[[#This Row],[DATE]],USD_serie_storica_mensileLit[#All],2,FALSE) -> 624.667 | E3: =+VLOOKUP(PaperPulpPrice[[#This Row],[DATE]],USD_serie_storica_mensile[#All],2,FALSE) -> #N/A
A4: 21520 | B4: 27.1 | C4: =+IFERROR(E4,1936.27/D4)*PaperPulpPrice[[#This Row],[Paper Pulp Price]] -> 84.005189 | D4: =+VLOOKUP(PaperPulpPrice[[#This Row],[DATE]],USD_serie_storica_mensileLit[#All],2,FALSE) -> 624.639 | E4: =+VLOOKUP(PaperPulpPrice[[#This Row],[DATE]],USD_serie_storica_mensile[#All],2,FALSE) -> #N/A
A5: 21551 | B5: 27.1 | C5: =+IFERROR(E5,1936.27/D5)*PaperPulpPrice[[#This Row],[Paper Pulp Price]] -> 84.291134 | D5: =+VLOOKUP(PaperPulpPrice[[#This Row],[DATE]],USD_serie_storica_mensileLit[#All],2,FALSE) -> 622.52 | E5: =+VLOOKUP(PaperPulpPrice[[#This Row],[DATE]],USD_serie_storica_mensile[#All],2,FALSE) -> #N/A
A6: 21582 | B6: 27.1 | C6: =+IFERROR(E6,1936.27/D6)*PaperPulpPrice[[#This Row],[Paper Pulp Price]] -> 84.534613 | D6: =+VLOOKUP(PaperPulpPrice[[#This Row],[DATE]],USD_serie_storica_mensileLit[#All],2,FALSE) -> 620.727 | E6: =+VLOOKUP(PaperPulpPrice[[#This Row],[DATE]],USD_serie_storica_mensile[#All],2,FALSE) -> #N/A
A7: 21610 | B7: 27.1 | C7: =+IFERROR(E7,1936.27/D7)*PaperPulpPrice[[#This Row],[Paper Pulp Price]] -> 84.551776 | D7: =+VLOOKUP(PaperPulpPrice[[#This Row],[DATE]],USD_serie_storica_mensileLit[#All],2,FALSE) -> 620.601 | E7: =+VLOOKUP(PaperPulpPrice[[#This Row],[DATE]],USD_serie_storica_mensile[#All],2,FALSE) -> #N/A
A8: 21641 | B8: 27.1 | C8: =+IFERROR(E8,1936.27/D8)*PaperPulpPrice[[#This Row],[Paper Pulp Price]] -> 84.551776 | D8: =+VLOOKUP(PaperPulpPrice[[#This Row],[DATE]],USD_serie_storica_mensileLit[#All],2,FALSE) -> 620.601 | E8: =+VLOOKUP(PaperPulpPrice[[#This Row],[DATE]],USD_serie_storica_mensile[#All],2,FALSE) -> #N/A
A9: 21671 | B9: 27.1 | C9: =+IFERROR(E9,1936.27/D9)*PaperPulpPrice[[#This Row],[Paper Pulp Price]] -> 84.551776 | D9: =+VLOOKUP(PaperPulpPrice[[#This Row],[DATE]],USD_serie_storica_mensileLit[#All],2,FALSE) -> 620.601 | E9: =+VLOOKUP(PaperPulpPrice[[#This Row],[DATE]],USD_serie_storica_mensile[#All],2,FALSE) -> #N/A
A10: 21702 | B10: 27.1 | C10: =+IFERROR(E10,1936.27/D10)*PaperPulpPrice[[#This Row],[Paper Pulp Price]] -> 84.551776 | D10: =+VLOOKUP(PaperPulpPrice[[#This Row],[DATE]],USD_serie_storica_mensileLit[#All],2,FALSE) -> 620.601 | E10: =+VLOOKUP(PaperPulpPrice[[#This Row],[DATE]],USD_serie_storica_mensile[#All],2,FALSE) -> #N/A
A11: 21732 | B11: 27.1 | C11: =+IFERROR(E11,1936.27/D11)*PaperPulpPrice[[#This Row],[Paper Pulp Price]] -> 84.551913 | D11: =+VLOOKUP(PaperPulpPrice[[#This Row],[DATE]],USD_serie_storica_mensileLit[#All],2,FALSE) -> 620.6 | E11: =+VLOOKUP(PaperPulpPrice[[#This Row],[DATE]],USD_serie_storica_mensile[#All],2,FALSE) -> #N/A
A12: 21763 | B12: 27.1 | C12: =+IFERROR(E12,1936.27/D12)*PaperPulpPrice[[#This Row],[Paper Pulp Price]] -> 84.551913 | D12: =+VLOOKUP(PaperPulpPrice[[#This Row],[DATE]],USD_serie_storica_mensileLit[#All],2,FALSE) -> 620.6 | E12: =+VLOOKUP(PaperPulpPrice[[#This Row],[DATE]],USD_serie_storica_mensile[#All],2,FALSE) -> #N/A
A13: 21794 | B13: 27.1 | C13: =+IFERROR(E13,1936.27/D13)*PaperPulpPrice[[#This Row],[Paper Pulp Price]] -> 84.551776 | D13: =+VLOOKUP(PaperPulpPrice[[#This Row],[DATE]],USD_serie_storica_mensileLit[#All],2,FALSE) -> 620.601 | E13: =+VLOOKUP(PaperPulpPrice[[#This Row],[DATE]],USD_serie_storica_mensile[#All],2,FALSE) -> #N/A
... A757: 44440 | B757: 207.8 | C757: =+IFERROR(E757,1936.27/D757)*PaperPulpPrice[[#This Row],[Paper Pulp Price]] -> 244.5806 | D757: =+VLOOKUP(PaperPulpPrice[[#This Row],[DATE]],USD_serie_storica_mensileLit[#All],2,FALSE) -> #N/A | E757: =+VLOOKUP(PaperPulpPrice[[#This Row],[DATE]],USD_serie_storica_mensile[#All],2,FALSE) -> 1.177

Sheet USD_serie_storica_mensile€
A1: Data di riferimento | B1: Quotazione | C1: Convenzione di cambio
A2: 36161 | B2: 1.16078 | C2: Quantita' di valuta estera per 1 Euro
A3: 36192 | B3: 1.12077 | C3: Quantita' di valuta estera per 1 Euro
A4: 36220 | B4: 1.0883 | C4: Quantita' di valuta estera per 1 Euro
A5: 36251 | B5: 1.07044 | C5: Quantita' di valuta estera per 1 Euro
A6: 36281 | B6: 1.06281 | C6: Quantita' di valuta estera per 1 Euro
A7: 36312 | B7: 1.03775 | C7: Quantita' di valuta estera per 1 Euro
A8: 36342 | B8: 1.03527 | C8: Quantita' di valuta estera per 1 Euro
A9: 36373 | B9: 1.06035 | C9: Quantita' di valuta estera per 1 Euro
A10: 36404 | B10: 1.05008 | C10: Quantita' di valuta estera per 1 Euro
A11: 36434 | B11: 1.07063 | C11: Quantita' di valuta estera per 1 Euro
A12: 36465 | B12: 1.03382 | C12: Quantita' di valuta estera per 1 Euro
A13: 36495 | B13: 1.01101 | C13: Quantita' di valuta estera per 1 Euro
... A275: 44470 | B275: 1.1601 | C275: Quantita' di valuta estera per 1 Euro

Sheet USD_serie_storica_mensileLit
A1: Data di riferimento | B1: Quotazione | C1: Convenzione di cambio
A2: 21459 | B2: 624.728 | C2: Quantita' di Lire per 1 unita' di valuta estera
A3: 21490 | B3: 624.667 | C3: Quantita' di Lire per 1 unita' di valuta estera
A4: 21520 | B4: 624.639 | C4: Quantita' di Lire per 1 unita' di valuta estera
A5: 21551 | B5: 622.52 | C5: Quantita' di Lire per 1 unita' di valuta estera
A6: 21582 | B6: 620.727 | C6: Quantita' di Lire per 1 unita' di valuta estera
A7: 21610 | B7: 620.601 | C7: Quantita' di Lire per 1 unita' di valuta estera
A8: 21641 | B8: 620.601 | C8: Quantita' di Lire per 1 unita' di valuta estera
A9: 21671 | B9: 620.601 | C9: Quantita' di Lire per 1 unita' di valuta estera
A10: 21702 | B10: 620.601 | C10: Quantita' di Lire per 1 unita' di valuta estera
A11: 21732 | B11: 620.6 | C11: Quantita' di Lire per 1 unita' di valuta estera
A12: 21763 | B12: 620.6 | C12: Quantita' di Lire per 1 unita' di valuta estera
A13: 21794 | B13: 620.601 | C13: Quantita' di Lire per 1 unita' di valuta estera
... A520: 37226 | B520: 2169.928 | C520: Quantita' di Lire per 1 unita' di valuta estera

Sheet DP_LIVE_28102021222849581
A1: LOCATION | B1: INDICATOR | C1: SUBJECT | D1: MEASURE | E1: FREQUENCY | F1: TIME | G1: Value | H1: Flag Codes | I1: Value€ | J1: CambioLit | K1: Cambio€
A2: ITA | B2: HHDI | C2: GROSSADJ | D2: USD_CAP | E2: A | F2: 1995 | G2: 17915.717 | I2: =+DP_LIVE_28102021222849581[[#This Row],[Value]]*IFERROR(DP_LIVE_28102021222849581[[#This Row],[Cambio€]],1936.27/DP_LIVE_28102021222849581[[#This Row],[CambioLit]]) -> 21296.232 | J2: =+VLOOKUP(DP_LIVE_28102021222849581[[#This Row],[TIME]],USD_serie_storica_annualeLit[#All],2,FALSE) -> 1628.911 | K2: =+VLOOKUP(DP_LIVE_28102021222849581[[#This Row],[TIME]],USD_serie_storica_annuale[#All],2,FALSE) -> #N/A
A3: ITA | B3: HHDI | C3: GROSSADJ | D3: USD_CAP | E3: A | F3: 1996 | G3: 18420.963 | I3: =+DP_LIVE_28102021222849581[[#This Row],[Value]]*IFERROR(DP_LIVE_28102021222849581[[#This Row],[Cambio€]],1936.27/DP_LIVE_28102021222849581[[#This Row],[CambioLit]]) -> 23116.46 | J3: =+VLOOKUP(DP_LIVE_28102021222849581[[#This Row],[TIME]],USD_serie_storica_annualeLit[#All],2,FALSE) -> 1542.968 | K3: =+VLOOKUP(DP_LIVE_28102021222849581[[#This Row],[TIME]],USD_serie_storica_annuale[#All],2,FALSE) -> #N/A
A4: ITA | B4: HHDI | C4: GROSSADJ | D4: USD_CAP | E4: A | F4: 1997 | G4: 18869.422 | I4: =+DP_LIVE_28102021222849581[[#This Row],[Value]]*IFERROR(DP_LIVE_28102021222849581[[#This Row],[Cambio€]],1936.27/DP_LIVE_28102021222849581[[#This Row],[CambioLit]]) -> 21448.663 | J4: =+VLOOKUP(DP_LIVE_28102021222849581[[#This Row],[TIME]],USD_serie_storica_annualeLit[#All],2,FALSE) -> 1703.43 | K4: =+VLOOKUP(DP_LIVE_28102021222849581[[#This Row],[TIME]],USD_serie_storica_annuale[#All],2,FALSE) -> #N/A
A5: ITA | B5: HHDI | C5: GROSSADJ | D5: USD_CAP | E5: A | F5: 1998 | G5: 19152.552 | I5: =+DP_LIVE_28102021222849581[[#This Row],[Value]]*IFERROR(DP_LIVE_28102021222849581[[#This Row],[Cambio€]],1936.27/DP_LIVE_28102021222849581[[#This Row],[CambioLit]]) -> 21359.13 | J5: =+VLOOKUP(DP_LIVE_28102021222849581[[#This Row],[TIME]],USD_serie_storica_annualeLit[#All],2,FALSE) -> 1736.237 | K5: =+VLOOKUP(DP_LIVE_28102021222849581[[#This Row],[TIME]],USD_serie_storica_annuale[#All],2,FALSE) -> #N/A
A6: ITA | B6: HHDI | C6: GROSSADJ | D6: USD_CAP | E6: A | F6: 1999 | G6: 19666.517 | I6: =+DP_LIVE_28102021222849581[[#This Row],[Value]]*IFERROR(DP_LIVE_28102021222849581[[#This Row],[Cambio€]],1936.27/DP_LIVE_28102021222849581[[#This Row],[CambioLit]]) -> 20960.18 | J6: =+VLOOKUP(DP_LIVE_28102021222849581[[#This Row],[TIME]],USD_serie_storica_annualeLit[#All],2,FALSE) -> 1819.274 | K6: =+VLOOKUP(DP_LIVE_28102021222849581[[#This Row],[TIME]],USD_serie_storica_annuale[#All],2,FALSE) -> 1.06578
A7: ITA | B7: HHDI | C7: GROSSADJ | D7: USD_CAP | E7: A | F7: 2000 | G7: 21217.674 | I7: =+DP_LIVE_28102021222849581[[#This Row],[Value]]*IFERROR(DP_LIVE_28102021222849581[[#This Row],[Cambio€]],1936.27/DP_LIVE_28102021222849581[[#This Row],[CambioLit]]) -> 19596.919 | J7: =+VLOOKUP(DP_LIVE_28102021222849581[[#This Row],[TIME]],USD_serie_storica_annualeLit[#All],2,FALSE) -> 2102.587 | K7: =+VLOOKUP(DP_LIVE_28102021222849581[[#This Row],[TIME]],USD_serie_storica_annuale[#All],2,FALSE) -> 0.923613
A8: ITA | B8: HHDI | C8: GROSSADJ | D8: USD_CAP | E8: A | F8: 2001 | G8: 22044.27 | I8: =+DP_LIVE_28102021222849581[[#This Row],[Value]]*IFERROR(DP_LIVE_28102021222849581[[#This Row],[Cambio€]],1936.27/DP_LIVE_28102021222849581[[#This Row],[CambioLit]]) -> 19743.509 | J8: =+VLOOKUP(DP_LIVE_28102021222849581[[#This Row],[TIME]],USD_serie_storica_annualeLit[#All],2,FALSE) -> 2163.807 | K8: =+VLOOKUP(DP_LIVE_28102021222849581[[#This Row],[TIME]],USD_serie_storica_annuale[#All],2,FALSE) -> 0.89563
A9: ITA | B9: HHDI | C9: GROSSADJ | D9: USD_CAP | E9: A | F9: 2002 | G9: 23210.115 | I9: =+DP_LIVE_28102021222849581[[#This Row],[Value]]*IFERROR(DP_LIVE_28102021222849581[[#This Row],[Cambio€]],1936.27/DP_LIVE_28102021222849581[[#This Row],[CambioLit]]) -> 21946.881 | J9: =+VLOOKUP(DP_LIVE_28102021222849581[[#This Row],[TIME]],USD_serie_storica_annualeLit[#All],2,FALSE) -> #N/A | K9: =+VLOOKUP(DP_LIVE_28102021222849581[[#This Row],[TIME]],USD_serie_storica_annuale[#All],2,FALSE) -> 0.945574
A10: ITA | B10: HHDI | C10: GROSSADJ | D10: USD_CAP | E10: A | F10: 2003 | G10: 23301.85 | I10: =+DP_LIVE_28102021222849581[[#This Row],[Value]]*IFERROR(DP_LIVE_28102021222849581[[#This Row],[Cambio€]],1936.27/DP_LIVE_28102021222849581[[#This Row],[CambioLit]]) -> 26358.121 | J10: =+VLOOKUP(DP_LIVE_28102021222849581[[#This Row],[TIME]],USD_serie_storica_annualeLit[#All],2,FALSE) -> #N/A | K10: =+VLOOKUP(DP_LIVE_28102021222849581[[#This Row],[TIME]],USD_serie_storica_annuale[#All],2,FALSE) -> 1.13116
A11: ITA | B11: HHDI | C11: GROSSADJ | D11: USD_CAP | E11: A | F11: 2004 | G11: 23877.896 | I11: =+DP_LIVE_28102021222849581[[#This Row],[Value]]*IFERROR(DP_LIVE_28102021222849581[[#This Row],[Cambio€]],1936.27/DP_LIVE_28102021222849581[[#This Row],[CambioLit]]) -> 29701.715 | J11: =+VLOOKUP(DP_LIVE_28102021222849581[[#This Row],[TIME]],USD_serie_storica_annualeLit[#All],2,FALSE) -> #N/A | K11: =+VLOOKUP(DP_LIVE_28102021222849581[[#This Row],[TIME]],USD_serie_storica_annuale[#All],2,FALSE) -> 1.2439
A12: ITA | B12: HHDI | C12: GROSSADJ | D12: USD_CAP | E12: A | F12: 2005 | G12: 23955.017 | I12: =+DP_LIVE_28102021222849581[[#This Row],[Value]]*IFERROR(DP_LIVE_28102021222849581[[#This Row],[Cambio€]],1936.27/DP_LIVE_28102021222849581[[#This Row],[CambioLit]]) -> 29802.197 | J12: =+VLOOKUP(DP_LIVE_28102021222849581[[#This Row],[TIME]],USD_serie_storica_annualeLit[#All],2,FALSE) -> #N/A | K12: =+VLOOKUP(DP_LIVE_28102021222849581[[#This Row],[TIME]],USD_serie_storica_annuale[#All],2,FALSE) -> 1.24409
A13: ITA | B13: HHDI | C13: GROSSADJ | D13: USD_CAP | E13: A | F13: 2006 | G13: 25093.253 | I13: =+DP_LIVE_28102021222849581[[#This Row],[Value]]*IFERROR(DP_LIVE_28102021222849581[[#This Row],[Cambio€]],1936.27/DP_LIVE_28102021222849581[[#This Row],[CambioLit]]) -> 31507.089 | J13: =+VLOOKUP(DP_LIVE_28102021222849581[[#This Row],[TIME]],USD_serie_storica_annualeLit[#All],2,FALSE) -> #N/A | K13: =+VLOOKUP(DP_LIVE_28102021222849581[[#This Row],[TIME]],USD_serie_storica_annuale[#All],2,FALSE) -> 1.2556
... A27: ITA | B27: HHDI | C27: GROSSADJ | D27: USD_CAP | E27: A | F27: 2020 | G27: 32313.105 | I27: =+DP_LIVE_28102021222849581[[#This Row],[Value]]*IFERROR(DP_LIVE_28102021222849581[[#This Row],[Cambio€]],1936.27/DP_LIVE_28102021222849581[[#This Row],[CambioLit]]) -> 36908.028 | J27: =+VLOOKUP(DP_LIVE_28102021222849581[[#This Row],[TIME]],USD_serie_storica_annualeLit[#All],2,FALSE) -> #N/A | K27: =+VLOOKUP(DP_LIVE_28102021222849581[[#This Row],[TIME]],USD_serie_storica_annuale[#All],2,FALSE) -> 1.1422

Sheet USD_serie_storica_annualeLit
A1: Data di riferimento | B1: Quotazione | C1: Convenzione di cambio
A2: 1995 | B2: 1628.911 | C2: Quantita' di Lire per 1 unita' di valuta estera
A3: 1996 | B3: 1542.968 | C3: Quantita' di Lire per 1 unita' di valuta estera
A4: 1997 | B4: 1703.43 | C4: Quantita' di Lire per 1 unita' di valuta estera
A5: 1998 | B5: 1736.237 | C5: Quantita' di Lire per 1 unita' di valuta estera
A6: 1999 | B6: 1819.274 | C6: Quantita' di Lire per 1 unita' di valuta estera
A7: 2000 | B7: 2102.587 | C7: Quantita' di Lire per 1 unita' di valuta estera
A8: 2001 | B8: 2163.807 | C8: Quantita' di Lire per 1 unita' di valuta estera

Sheet USD_serie_storica_annuale€
A1: Data di riferimento | B1: Quotazione | C1: Convenzione di cambio
A2: 1999 | B2: 1.06578 | C2: Quantita' di valuta estera per 1 Euro
A3: 2000 | B3: 0.923613 | C3: Quantita' di valuta estera per 1 Euro
A4: 2001 | B4: 0.89563 | C4: Quantita' di valuta estera per 1 Euro
A5: 2002 | B5: 0.945574 | C5: Quantita' di valuta estera per 1 Euro
A6: 2003 | B6: 1.13116 | C6: Quantita' di valuta estera per 1 Euro
A7: 2004 | B7: 1.2439 | C7: Quantita' di valuta estera per 1 Euro
A8: 2005 | B8: 1.24409 | C8: Quantita' di valuta estera per 1 Euro
A9: 2006 | B9: 1.2556 | C9: Quantita' di valuta estera per 1 Euro
A10: 2007 | B10: 1.37048 | C10: Quantita' di valuta estera per 1 Euro
A11: 2008 | B11: 1.47076 | C11: Quantita' di valuta estera per 1 Euro
A12: 2009 | B12: 1.39478 | C12: Quantita' di valuta estera per 1 Euro
A13: 2010 | B13: 1.32572 | C13: Quantita' di valuta estera per 1 Euro
... A23: 2020 | B23: 1.1422 | C23: Quantita' di valuta estera per 1 Euro

Sheet rubato internet

Sheet Variazioni mese finale
A1: FOI(nt) 3.4 - Indici nazionali dei prezzi al consumo per le famiglie di operai e impiegati
A2: Generale al netto dei tabacchi (a partire dal Febbraio 1992)
A4: Coefficienti per tradurre valori monetari dei periodi sottoindicati nel mese di Settembre 2021
A6: Anno | B6: GEN | C6: FEB | D6: MAR | E6: APR | F6: MAG | G6: GIU | H6: LUG | I6: AGO | J6: SET | K6: OTT | L6: NOV | M6: DIC | N6: ANNO | O6: Anno
A7: =+VALUE(O7) -> 1947 | B7: 50.531 | C7: 49.478 | D7: 48.102 | E7: 44.15 | F7: 42.079 | G7: 39.507 | H7: 38.274 | I7: 36.28 | J7: 34.497 | K7: 34.593 | L7: 36.17 | M7: 37.312 | N7: 40.195 | O7: 1947
A8: =+VALUE(O8) -> 1948 | B8: 37.979 | C8: 38.387 | D8: 37.386 | E8: 37.248 | F8: 37.732 | G8: 38.034 | H8: 39.967 | I8: 38.375 | J8: 37.456 | K8: 38.012 | L8: 37.759 | M8: 37.403 | N8: 37.963 | O8: 1948
A9: =+VALUE(O9) -> 1949 | B9: 36.89 | C9: 37.089 | D9: 36.927 | E9: 36.401 | F9: 36.437 | G9: 36.854 | H9: 37.907 | I9: 37.456 | J9: 37.64 | K9: 38.488 | L9: 38.392 | M9: 38.688 | N9: 37.413 | O9: 1949
A10: =+VALUE(O10) -> 1950 | B10: 38.838 | C10: 38.74 | D10: 39.276 | E10: 38.7 | F10: 38.637 | G10: 38.129 | H10: 38.123 | I10: 37.462 | J10: 36.729 | K10: 37.179 | L10: 36.802 | M10: 36.714 | N10: 37.924 | O10: 1950
A11: =+VALUE(O11) -> 1951 | B11: 36.2 | C11: 35.564 | D11: 35.371 | E11: 34.589 | F11: 34.547 | G11: 34.092 | H11: 34.105 | I11: 34.226 | J11: 34.239 | K11: 34.145 | L11: 33.937 | M11: 33.955 | N11: 34.566 | O11: 1951
A12: =+VALUE(O12) -> 1952 | B12: 34.061 | C12: 33.687 | D12: 33.588 | E12: 33.429 | F12: 33.301 | G12: 33.081 | H12: 33.002 | I12: 32.985 | J12: 32.749 | K12: 32.688 | L12: 32.647 | M12: 32.77 | N12: 33.157 | O12: 1952
A13: =+VALUE(O13) -> 1953 | B13: 32.819 | C13: 32.758 | D13: 32.762 | E13: 32.444 | F13: 32.252 | G13: 32.161 | H13: 32.647 | I13: 32.741 | J13: 32.594 | K13: 32.469 | L13: 32.312 | M13: 32.388 | N13: 32.525 | O13: 1953
A14: =+VALUE(O14) -> 1954 | B14: 32.344 | C14: 32.208 | D14: 32.304 | E14: 32.101 | F14: 31.696 | G14: 31.437 | H14: 31.324 | I14: 31.354 | J14: 31.399 | K14: 31.452 | L14: 31.309 | M14: 31.264 | N14: 31.673 | O14: 1954
A15: =+VALUE(O15) -> 1955 | B15: 31.275 | C15: 31.346 | D15: 31.275 | E15: 31.018 | F15: 30.737 | G15: 30.532 | H15: 30.644 | I15: 30.593 | J15: 30.687 | K15: 30.694 | L15: 30.565 | M15: 30.362 | N15: 30.81 | O15: 1955
A16: =+VALUE(O16) -> 1956 | B16: 30.152 | C16: 29.753 | D16: 29.405 | E16: 29.227 | F16: 29.074 | G16: 29.194 | H16: 29.26 | I16: 29.247 | J16: 29.168 | K16: 29.329 | L16: 29.296 | M16: 29.139 | N16: 29.349 | O16: 1956
A17: =+VALUE(O17) -> 1957 | B17: 28.856 | C17: 29.029 | D17: 29.172 | E17: 29.191 | F17: 29.087 | G17: 29.029 | H17: 28.853 | I17: 28.827 | J17: 28.694 | K17: 28.463 | L17: 28.262 | M17: 28.101 | N17: 28.792 | O17: 1957
A18: =+VALUE(O18) -> 1958 | B18: 27.82 | C18: 27.936 | D18: 27.897 | E18: 27.463 | F18: 27.18 | G18: 26.997 | H18: 27.064 | I18: 27.188 | J18: 27.276 | K18: 27.541 | L18: 27.64 | M18: 27.778 | N18: 27.477 | O18: 1958
... A80: =+VALUE(O80) -> 2020 | B80: 1.018 | C80: 1.02 | D80: 1.019 | E80: 1.02 | F80: 1.022 | G80: 1.021 | H80: 1.022 | I80: 1.02 | J80: 1.026 | K80: 1.025 | L80: 1.025 | M80: 1.022 | N80: 1.022 | O80: 2020
A81: =+VALUE(O81) -> 2021 | B81: 1.016 | C81: 1.015 | D81: 1.012 | E81: 1.008 | F81: 1.009 | G81: 1.007 | H81: 1.003 | I81: 0.998 | J81: 1 | O81: 2021

Sheet Indice consumi
A1: anno | B1: Cfin Fam Pcorr | C1: P202103 | D1: ConsumitotP2021 | E1: Pop | F1: conspc | G1: IndiceProcapite
A2: 1861 | B2: 3.9688135 | C2: =+IFERROR(VLOOKUP(A2,indexconsfamiglie[#All],2,FALSE),0) -> 0 | D2: =+IF(C2>0,C2,B2*C$136/B$136) -> 4.0407383 | F2: =+IFERROR(D2*1000/E2,0)*VLOOKUP(A2,'Variazioni mese finale'!A$6:N$81,14,FALSE) -> #N/A | G2: =+IFERROR(F2/F$99,0) -> 0
A3: 1862 | B3: 3.882271 | C3: =+IFERROR(VLOOKUP(A3,indexconsfamiglie[#All],2,FALSE),0) -> 0 | D3: =+IF(C3>0,C3,B3*C$136/B$136) -> 3.9526274 | E3: 26328 | F3: =+IFERROR(D3*1000/E3,0)*VLOOKUP(A3,'Variazioni mese finale'!A$6:N$81,14,FALSE) -> #N/A | G3: =+IFERROR(F3/F$99,0) -> 0
A4: 1863 | B4: 3.8401738 | C4: =+IFERROR(VLOOKUP(A4,indexconsfamiglie[#All],2,FALSE),0) -> 0 | D4: =+IF(C4>0,C4,B4*C$136/B$136) -> 3.9097673 | E4: 26507 | F4: =+IFERROR(D4*1000/E4,0)*VLOOKUP(A4,'Variazioni mese finale'!A$6:N$81,14,FALSE) -> #N/A | G4: =+IFERROR(F4/F$99,0) -> 0
A5: 1864 | B5: 3.9029259 | C5: =+IFERROR(VLOOKUP(A5,indexconsfamiglie[#All],2,FALSE),0) -> 0 | D5: =+IF(C5>0,C5,B5*C$136/B$136) -> 3.9736566 | E5: 26712 | F5: =+IFERROR(D5*1000/E5,0)*VLOOKUP(A5,'Variazioni mese finale'!A$6:N$81,14,FALSE) -> #N/A | G5: =+IFERROR(F5/F$99,0) -> 0
A6: 1865 | B6: 4.1850818 | C6: =+IFERROR(VLOOKUP(A6,indexconsfamiglie[#All],2,FALSE),0) -> 0 | D6: =+IF(C6>0,C6,B6*C$136/B$136) -> 4.2609259 | E6: 26915 | F6: =+IFERROR(D6*1000/E6,0)*VLOOKUP(A6,'Variazioni mese finale'!A$6:N$81,14,FALSE) -> #N/A | G6: =+IFERROR(F6/F$99,0) -> 0
A7: 1866 | B7: 4.1967437 | C7: =+IFERROR(VLOOKUP(A7,indexconsfamiglie[#All],2,FALSE),0) -> 0 | D7: =+IF(C7>0,C7,B7*C$136/B$136) -> 4.2727992 | E7: 27131 | F7: =+IFERROR(D7*1000/E7,0)*VLOOKUP(A7,'Variazioni mese finale'!A$6:N$81,14,FALSE) -> #N/A | G7: =+IFERROR(F7/F$99,0) -> 0
A8: 1867 | B8: 4.2524155 | C8: =+IFERROR(VLOOKUP(A8,indexconsfamiglie[#All],2,FALSE),0) -> 0 | D8: =+IF(C8>0,C8,B8*C$136/B$136) -> 4.3294799 | E8: 27381 | F8: =+IFERROR(D8*1000/E8,0)*VLOOKUP(A8,'Variazioni mese finale'!A$6:N$81,14,FALSE) -> #N/A | G8: =+IFERROR(F8/F$99,0) -> 0
A9: 1868 | B9: 4.4513091 | C9: =+IFERROR(VLOOKUP(A9,indexconsfamiglie[#All],2,FALSE),0) -> 0 | D9: =+IF(C9>0,C9,B9*C$136/B$136) -> 4.5319779 | E9: 27440 | F9: =+IFERROR(D9*1000/E9,0)*VLOOKUP(A9,'Variazioni mese finale'!A$6:N$81,14,FALSE) -> #N/A | G9: =+IFERROR(F9/F$99,0) -> 0
A10: 1869 | B10: 4.3011135 | C10: =+IFERROR(VLOOKUP(A10,indexconsfamiglie[#All],2,FALSE),0) -> 0 | D10: =+IF(C10>0,C10,B10*C$136/B$136) -> 4.3790604 | E10: 27561 | F10: =+IFERROR(D10*1000/E10,0)*VLOOKUP(A10,'Variazioni mese finale'!A$6:N$81,14,FALSE) -> #N/A | G10: =+IFERROR(F10/F$99,0) -> 0
A11: 1870 | B11: 4.3936739 | C11: =+IFERROR(VLOOKUP(A11,indexconsfamiglie[#All],2,FALSE),0) -> 0 | D11: =+IF(C11>0,C11,B11*C$136/B$136) -> 4.4732982 | E11: 27801 | F11: =+IFERROR(D11*1000/E11,0)*VLOOKUP(A11,'Variazioni mese finale'!A$6:N$81,14,FALSE) -> #N/A | G11: =+IFERROR(F11/F$99,0) -> 0
A12: 1871 | B12: 4.326083 | C12: =+IFERROR(VLOOKUP(A12,indexconsfamiglie[#All],2,FALSE),0) -> 0 | D12: =+IF(C12>0,C12,B12*C$136/B$136) -> 4.4044824 | E12: 27974 | F12: =+IFERROR(D12*1000/E12,0)*VLOOKUP(A12,'Variazioni mese finale'!A$6:N$81,14,FALSE) -> #N/A | G12: =+IFERROR(F12/F$99,0) -> 0
A13: 1872 | B13: 4.5759479 | C13: =+IFERROR(VLOOKUP(A13,indexconsfamiglie[#All],2,FALSE),0) -> 0 | D13: =+IF(C13>0,C13,B13*C$136/B$136) -> 4.6588755 | E13: 28151 | F13: =+IFERROR(D13*1000/E13,0)*VLOOKUP(A13,'Variazioni mese finale'!A$6:N$81,14,FALSE) -> #N/A | G13: =+IFERROR(F13/F$99,0) -> 0
A14: 1873 | B14: 5.0607956 | C14: =+IFERROR(VLOOKUP(A14,indexconsfamiglie[#All],2,FALSE),0) -> 0 | D14: =+IF(C14>0,C14,B14*C$136/B$136) -> 5.1525099 | E14: 28314 | F14: =+IFERROR(D14*1000/E14,0)*VLOOKUP(A14,'Variazioni mese finale'!A$6:N$81,14,FALSE) -> #N/A | G14: =+IFERROR(F14/F$99,0) -> 0
... A158: 2017 | B158: 1048392.8 | C158: =+IFERROR(VLOOKUP(A158,indexconsfamiglie[#All],2,FALSE),0) -> 1056495.3 | D158: =+IF(C158>0,C158,B158*C$136/B$136) -> 1056495.3 | E158: 60066.734 | F158: =+IFERROR(D158*1000/E158,0)*VLOOKUP(A158,'Variazioni mese finale'!A$6:N$81,14,FALSE) -> 18204.296 | G158: =+IFERROR(F158/F$99,0) -> 4.7158709
A159: 2018 | C159: =+IFERROR(VLOOKUP(A159,indexconsfamiglie[#All],2,FALSE),0) -> 1077744.5 | D159: =+IF(C159>0,C159,B159*C$136/B$136) -> 1077744.5 | E159: 59937.769 | F159: =+IFERROR(D159*1000/E159,0)*VLOOKUP(A159,'Variazioni mese finale'!A$6:N$81,14,FALSE) -> 18412.603 | G159: =+IFERROR(F159/F$99,0) -> 4.7698333
A160: 2019 | C160: =+IFERROR(VLOOKUP(A160,indexconsfamiglie[#All],2,FALSE),0) -> 1087259.3 | D160: =+IF(C160>0,C160,B160*C$136/B$136) -> 1087259.3 | E160: 59816.673 | F160: =+IFERROR(D160*1000/E160,0)*VLOOKUP(A160,'Variazioni mese finale'!A$6:N$81,14,FALSE) -> 18521.88 | G160: =+IFERROR(F160/F$99,0) -> 4.7981417
A161: 2020 | C161: =+IFERROR(VLOOKUP(A161,indexconsfamiglie[#All],2,FALSE),0) -> 958493 | D161: =+IF(C161>0,C161,B161*C$136/B$136) -> 958493 | E161: 59641.488 | F161: =+IFERROR(D161*1000/E161,0)*VLOOKUP(A161,'Variazioni mese finale'!A$6:N$81,14,FALSE) -> 16424.47 | G161: =+IFERROR(F161/F$99,0) -> 4.2548022
A162: 2021 | C162: =+IFERROR(VLOOKUP(A162,indexconsfamiglie[#All],2,FALSE),0) -> 0 | E162: 59257.566 | F162: =+IFERROR(D162*1000/E162,0)*VLOOKUP(A162,'Variazioni mese finale'!A$6:N$81,14,FALSE) -> 0

Sheet consfinalifamprezzi202103
A1: Seleziona periodo | B1: Value | C1: Flag Codes | D1: Flags
A2: 1995 | B2: 591935.5
A3: 1996 | B3: 621451
A4: 1997 | B4: 655771.1
A5: 1998 | B5: 689421.4
A6: 1999 | B6: 719273.3
A7: 2000 | B7: 763200.7
A8: 2001 | B8: 786077.1
A9: 2002 | B9: 806593.4
A10: 2003 | B10: 835347
A11: 2004 | B11: 865503.4
A12: 2005 | B12: 893027.6
A13: 2006 | B13: 929831.3
... A27: 2020 | B27: 958493
